BEGIN:VCALENDAR
VERSION:2.0
PRODID:icalendar-ruby
CALSCALE:GREGORIAN
METHOD:PUBLISH
BEGIN:VTIMEZONE
TZID:Australia/Sydney
BEGIN:DAYLIGHT
DTSTART:20261004T030000
TZOFFSETFROM:+1000
TZOFFSETTO:+1100
RRULE:FREQ=YEARLY;BYDAY=1SU;BYMONTH=10
TZNAME:AEDT
END:DAYLIGHT
BEGIN:STANDARD
DTSTART:20260405T020000
TZOFFSETFROM:+1100
TZOFFSETTO:+1000
RRULE:FREQ=YEARLY;BYDAY=1SU;BYMONTH=4
TZNAME:AEST
END:STANDARD
END:VTIMEZONE
BEGIN:VEVENT
DTSTAMP:20260423T083635Z
UID:inspection_3008002
DTSTART;TZID=Australia/Sydney:20260428T173000
DTEND;TZID=Australia/Sydney:20260428T180000
CLASS:PUBLIC
CREATED:20260421T163435
DESCRIPTION: 
LAST-MODIFIED:20260421T163435
LOCATION:17 Flight Circuit\, MIDDLETON GRANGE NSW 2171\, Australia
SUMMARY:17 Flight Circuit\,  Inspection
URL;VALUE=URI:https://www.uapg.com.au/
END:VEVENT
END:VCALENDAR
